BEGIN:VCALENDAR
VERSION:2.0
PRODID:-//Adham Somantrie/AyoLari.in//NONSGML v1.0//EN
CALSCALE:GREGORIAN
BEGIN:VEVENT
UID:9afefc52942cb83c7c1f14b2139b09ba
DTSTAMP:20260421T203801Z
LOCATION:Virtual Run
DESCRIPTION:ayolari.in
URL;VALUE=URI:https://ayolari.in/lomba/kotakotak-run
SUMMARY:Kotakotak Run
DTSTART;VALUE=DATE;TZID=ASIA-JAKARTA:20201001
DTEND;VALUE=DATE;TZID=ASIA-JAKARTA:20201002
TRANSP:TRANSPARENT
END:VEVENT
END:VCALENDAR