BEGIN:VCALENDAR
VERSION:2.0
PRODID:-//Adham Somantrie/AyoLari.in//NONSGML v1.0//EN
CALSCALE:GREGORIAN
BEGIN:VEVENT
UID:955cb567b6e38f4c6b3f28cc857fc38c
DTSTAMP:20260420T035130Z
LOCATION:Virtual Run
DESCRIPTION:ayolari.in
URL;VALUE=URI:https://ayolari.in/lomba/halloween-series
SUMMARY:HALLOWEEN SERIES
DTSTART;VALUE=DATE;TZID=ASIA-JAKARTA:20200930
DTEND;VALUE=DATE;TZID=ASIA-JAKARTA:20201001
TRANSP:TRANSPARENT
END:VEVENT
END:VCALENDAR