BEGIN:VCALENDAR
VERSION:2.0
PRODID:-//Adham Somantrie/AyoLari.in//NONSGML v1.0//EN
CALSCALE:GREGORIAN
BEGIN:VEVENT
UID:584b98aac2dddf59ee2cf19ca4ccb75e
DTSTAMP:20260421T203348Z
LOCATION:Virtual Run
DESCRIPTION:ayolari.in
URL;VALUE=URI:https://ayolari.in/lomba/proffle-gerak-berjarak
SUMMARY:Proffle Gerak Berjarak
DTSTART;VALUE=DATE;TZID=ASIA-JAKARTA:20201115
DTEND;VALUE=DATE;TZID=ASIA-JAKARTA:20201116
TRANSP:TRANSPARENT
END:VEVENT
END:VCALENDAR