BEGIN:VCALENDAR
VERSION:2.0
PRODID:-//Adham Somantrie/AyoLari.in//NONSGML v1.0//EN
CALSCALE:GREGORIAN
BEGIN:VEVENT
UID:a9813e9550fee3110373c21fa012eee7
DTSTAMP:20260420T081339Z
LOCATION:Virtual Run
DESCRIPTION:ayolari.in
URL;VALUE=URI:https://ayolari.in/lomba/cardio-virtual-month
SUMMARY:Cardio Virtual Month
DTSTART;VALUE=DATE;TZID=ASIA-JAKARTA:20201029
DTEND;VALUE=DATE;TZID=ASIA-JAKARTA:20201030
TRANSP:TRANSPARENT
END:VEVENT
END:VCALENDAR