BEGIN:VCALENDAR
VERSION:2.0
PRODID:-//Adham Somantrie/AyoLari.in//NONSGML v1.0//EN
CALSCALE:GREGORIAN
BEGIN:VEVENT
UID:eae27d77ca20db309e056e3d2dcd7d69
DTSTAMP:20260420T234811Z
LOCATION:Jakarta
DESCRIPTION:ayolari.in
URL;VALUE=URI:https://ayolari.in/lomba/aia-twin-run
SUMMARY:AIA Twin Run
DTSTART;VALUE=DATE;TZID=ASIA-JAKARTA:20150517
DTEND;VALUE=DATE;TZID=ASIA-JAKARTA:20150518
TRANSP:TRANSPARENT
END:VEVENT
END:VCALENDAR