BEGIN:VCALENDAR
VERSION:2.0
PRODID:-//Adham Somantrie/AyoLari.in//NONSGML v1.0//EN
CALSCALE:GREGORIAN
BEGIN:VEVENT
UID:a501bebf79d570651ff601788ea9d16d
DTSTAMP:20260420T023750Z
LOCATION:Virtual Run
DESCRIPTION:ayolari.in
URL;VALUE=URI:https://ayolari.in/lomba/virtual-sports-challenge-2020
SUMMARY:Virtual Sports Challenge 2020
DTSTART;VALUE=DATE;TZID=ASIA-JAKARTA:20200907
DTEND;VALUE=DATE;TZID=ASIA-JAKARTA:20200908
TRANSP:TRANSPARENT
END:VEVENT
END:VCALENDAR