BEGIN:VCALENDAR
VERSION:2.0
PRODID:-//Adham Somantrie/AyoLari.in//NONSGML v1.0//EN
CALSCALE:GREGORIAN
BEGIN:VEVENT
UID:d79c6256b9bdac53a55801a066b70da3
DTSTAMP:20260420T023752Z
LOCATION:Virtual Run
DESCRIPTION:ayolari.in
URL;VALUE=URI:https://ayolari.in/lomba/hari-olahraga-nasional-virtual-run-ride
SUMMARY:Hari Olahraga Nasional Virtual Run & Ride
DTSTART;VALUE=DATE;TZID=ASIA-JAKARTA:20200909
DTEND;VALUE=DATE;TZID=ASIA-JAKARTA:20200910
TRANSP:TRANSPARENT
END:VEVENT
END:VCALENDAR