BEGIN:VCALENDAR
VERSION:2.0
PRODID:-//Adham Somantrie/AyoLari.in//NONSGML v1.0//EN
CALSCALE:GREGORIAN
BEGIN:VEVENT
UID:89885ff2c83a10305ee08bd507c1049c
DTSTAMP:20260421T205143Z
LOCATION:Virtual Run
DESCRIPTION:ayolari.in
URL;VALUE=URI:https://ayolari.in/lomba/bali-pink-ribbon-fun-walk-run
SUMMARY:Bali Pink Ribbon Fun Walk & Run
DTSTART;VALUE=DATE;TZID=ASIA-JAKARTA:20201025
DTEND;VALUE=DATE;TZID=ASIA-JAKARTA:20201026
TRANSP:TRANSPARENT
END:VEVENT
END:VCALENDAR