BEGIN:VCALENDAR
VERSION:2.0
PRODID:-//Adham Somantrie/AyoLari.in//NONSGML v1.0//EN
CALSCALE:GREGORIAN
BEGIN:VEVENT
UID:4c144c47ecba6f8318128703ca9e2601
DTSTAMP:20260420T081349Z
LOCATION:Virtual Run
DESCRIPTION:ayolari.in
URL;VALUE=URI:https://ayolari.in/lomba/go-green-run
SUMMARY:Go Green Run
DTSTART;VALUE=DATE;TZID=ASIA-JAKARTA:20200825
DTEND;VALUE=DATE;TZID=ASIA-JAKARTA:20200826
TRANSP:TRANSPARENT
END:VEVENT
END:VCALENDAR