BEGIN:VCALENDAR
VERSION:2.0
PRODID:-//Adham Somantrie/AyoLari.in//NONSGML v1.0//EN
CALSCALE:GREGORIAN
BEGIN:VEVENT
UID:2557911c1bf75c2b643afb4ecbfc8ec2
DTSTAMP:20260420T023757Z
LOCATION:Virtual Run
DESCRIPTION:ayolari.in
URL;VALUE=URI:https://ayolari.in/lomba/run-on-marathon-2020
SUMMARY:Run On Marathon 2020
DTSTART;VALUE=DATE;TZID=ASIA-JAKARTA:20200920
DTEND;VALUE=DATE;TZID=ASIA-JAKARTA:20200921
TRANSP:TRANSPARENT
END:VEVENT
END:VCALENDAR