BEGIN:VCALENDAR
VERSION:2.0
PRODID:-//Adham Somantrie/AyoLari.in//NONSGML v1.0//EN
CALSCALE:GREGORIAN
BEGIN:VEVENT
UID:23d2e1578544b172cca332ff74bddf5f
DTSTAMP:20260420T035135Z
LOCATION:Virtual Run
DESCRIPTION:ayolari.in
URL;VALUE=URI:https://ayolari.in/lomba/bulungan-run-2020
SUMMARY:Bulungan Virtual Run 2020
DTSTART;VALUE=DATE;TZID=ASIA-JAKARTA:20200822
DTEND;VALUE=DATE;TZID=ASIA-JAKARTA:20200823
TRANSP:TRANSPARENT
END:VEVENT
END:VCALENDAR