BEGIN:VCALENDAR
VERSION:2.0
PRODID:-//Adham Somantrie/AyoLari.in//NONSGML v1.0//EN
CALSCALE:GREGORIAN
BEGIN:VEVENT
UID:a5a61717dddc3501cfdf7a4e22d7dbaa
DTSTAMP:20260421T203458Z
LOCATION:Virtual Run
DESCRIPTION:ayolari.in
URL;VALUE=URI:https://ayolari.in/lomba/indonesia-istimewa-run
SUMMARY:Indonesia Istimewa Run
DTSTART;VALUE=DATE;TZID=ASIA-JAKARTA:20200927
DTEND;VALUE=DATE;TZID=ASIA-JAKARTA:20200928
TRANSP:TRANSPARENT
END:VEVENT
END:VCALENDAR