BEGIN:VCALENDAR
VERSION:2.0
PRODID:-//Adham Somantrie/AyoLari.in//NONSGML v1.0//EN
CALSCALE:GREGORIAN
BEGIN:VEVENT
UID:88ef51f0bf911e452e8dbb1d807a81ab
DTSTAMP:20260420T023756Z
LOCATION:Virtual Run
DESCRIPTION:ayolari.in
URL;VALUE=URI:https://ayolari.in/lomba/run-chicago-2020
SUMMARY:Run Chicago 2020
DTSTART;VALUE=DATE;TZID=ASIA-JAKARTA:20200913
DTEND;VALUE=DATE;TZID=ASIA-JAKARTA:20200914
TRANSP:TRANSPARENT
END:VEVENT
END:VCALENDAR