BEGIN:VCALENDAR
VERSION:2.0
PRODID:-//Adham Somantrie/AyoLari.in//NONSGML v1.0//EN
CALSCALE:GREGORIAN
BEGIN:VEVENT
UID:d860edd1dd83b36f02ce52bde626c653
DTSTAMP:20260421T205142Z
LOCATION:Virtual Run
DESCRIPTION:ayolari.in
URL;VALUE=URI:https://ayolari.in/lomba/kemerdekaan-virtual-run-2020
SUMMARY:Kemerdekaan Virtual Run 2020
DTSTART;VALUE=DATE;TZID=ASIA-JAKARTA:20200720
DTEND;VALUE=DATE;TZID=ASIA-JAKARTA:20200721
TRANSP:TRANSPARENT
END:VEVENT
END:VCALENDAR