BEGIN:VCALENDAR
VERSION:2.0
PRODID:-//Adham Somantrie/AyoLari.in//NONSGML v1.0//EN
CALSCALE:GREGORIAN
BEGIN:VEVENT
UID:c92a10324374fac681719d63979d00fe
DTSTAMP:20260420T081741Z
LOCATION:Virtual Run
DESCRIPTION:ayolari.in
URL;VALUE=URI:https://ayolari.in/lomba/pelaribaik-2020-virtual-series-evolve-racetosave
SUMMARY:PelariBaik 2020 Virtual Series - Evolve #RacetoSave
DTSTART;VALUE=DATE;TZID=ASIA-JAKARTA:20200905
DTEND;VALUE=DATE;TZID=ASIA-JAKARTA:20200906
TRANSP:TRANSPARENT
END:VEVENT
END:VCALENDAR