BEGIN:VCALENDAR
VERSION:2.0
PRODID:-//Adham Somantrie/AyoLari.in//NONSGML v1.0//EN
CALSCALE:GREGORIAN
BEGIN:VEVENT
UID:07811dc6c422334ce36a09ff5cd6fe71
DTSTAMP:20260421T203355Z
LOCATION:Virtual Run
DESCRIPTION:ayolari.in
URL;VALUE=URI:https://ayolari.in/lomba/itenas-virtual-run
SUMMARY:BNI Itenas Virtual Run
DTSTART;VALUE=DATE;TZID=ASIA-JAKARTA:20200727
DTEND;VALUE=DATE;TZID=ASIA-JAKARTA:20200728
TRANSP:TRANSPARENT
END:VEVENT
END:VCALENDAR