BEGIN:VCALENDAR
VERSION:2.0
PRODID:-//Adham Somantrie/AyoLari.in//NONSGML v1.0//EN
CALSCALE:GREGORIAN
BEGIN:VEVENT
UID:5531a5834816222280f20d1ef9e95f69
DTSTAMP:20260421T204706Z
LOCATION:Virtual Run
DESCRIPTION:ayolari.in
URL;VALUE=URI:https://ayolari.in/lomba/mengejar-matahari-100k-virtual-run
SUMMARY:Mengejar Matahari - 100K Virtual Run
DTSTART;VALUE=DATE;TZID=ASIA-JAKARTA:20201001
DTEND;VALUE=DATE;TZID=ASIA-JAKARTA:20201002
TRANSP:TRANSPARENT
END:VEVENT
END:VCALENDAR