BEGIN:VCALENDAR
VERSION:2.0
PRODID:-//Adham Somantrie/AyoLari.in//NONSGML v1.0//EN
CALSCALE:GREGORIAN
BEGIN:VEVENT
UID:05a5cf06982ba7892ed2a6d38fe832d6
DTSTAMP:20260421T222619Z
LOCATION:Virtual Run
DESCRIPTION:ayolari.in
URL;VALUE=URI:https://ayolari.in/lomba/gerak-indonesia-maju-hut-r1-75
SUMMARY:Gerak Indonesia Maju (HUT R1-75)
DTSTART;VALUE=DATE;TZID=ASIA-JAKARTA:20200801
DTEND;VALUE=DATE;TZID=ASIA-JAKARTA:20200802
TRANSP:TRANSPARENT
END:VEVENT
END:VCALENDAR