BEGIN:VCALENDAR
VERSION:2.0
PRODID:-//Adham Somantrie/AyoLari.in//NONSGML v1.0//EN
CALSCALE:GREGORIAN
BEGIN:VEVENT
UID:ea6b2efbdd4255a9f1b3bbc6399b58f4
DTSTAMP:20260421T203638Z
LOCATION:Virtual Run
DESCRIPTION:ayolari.in
URL;VALUE=URI:https://ayolari.in/lomba/run-for-children
SUMMARY:Run For Children
DTSTART;VALUE=DATE;TZID=ASIA-JAKARTA:20200726
DTEND;VALUE=DATE;TZID=ASIA-JAKARTA:20200727
TRANSP:TRANSPARENT
END:VEVENT
END:VCALENDAR