BEGIN:VCALENDAR
VERSION:2.0
PRODID:-//Adham Somantrie/AyoLari.in//NONSGML v1.0//EN
CALSCALE:GREGORIAN
BEGIN:VEVENT
UID:84ddfb34126fc3a48ee38d7044e87276
DTSTAMP:20260421T203349Z
LOCATION:Virtual Run
DESCRIPTION:ayolari.in
URL;VALUE=URI:https://ayolari.in/lomba/l-men-get-stronger-virtual-workout
SUMMARY:L-Men Get Stronger Virtual Workout
DTSTART;VALUE=DATE;TZID=ASIA-JAKARTA:20200726
DTEND;VALUE=DATE;TZID=ASIA-JAKARTA:20200727
TRANSP:TRANSPARENT
END:VEVENT
END:VCALENDAR