BEGIN:VCALENDAR
VERSION:2.0
PRODID:-//Adham Somantrie/AyoLari.in//NONSGML v1.0//EN
CALSCALE:GREGORIAN
BEGIN:VEVENT
UID:8038da89e49ac5eabb489cfc6cea9fc1
DTSTAMP:20260420T075931Z
LOCATION:Jakarta
DESCRIPTION:ayolari.in
URL;VALUE=URI:https://ayolari.in/lomba/indonesia-marathon-2020
SUMMARY:Indonesia Marathon 2020
DTSTART;VALUE=DATE;TZID=ASIA-JAKARTA:20200823
DTEND;VALUE=DATE;TZID=ASIA-JAKARTA:20200824
TRANSP:TRANSPARENT
END:VEVENT
END:VCALENDAR