BEGIN:VCALENDAR
VERSION:2.0
PRODID:-//Adham Somantrie/AyoLari.in//NONSGML v1.0//EN
CALSCALE:GREGORIAN
BEGIN:VEVENT
UID:ea5a486c712a91e48443cd802642223d
DTSTAMP:20260420T023653Z
LOCATION:Virtual Run
DESCRIPTION:ayolari.in
URL;VALUE=URI:https://ayolari.in/lomba/back-to-80-s-cassette-series-virtual-run
SUMMARY:Back to 80s (Cassette Series) Virtual Run
DTSTART;VALUE=DATE;TZID=ASIA-JAKARTA:20200625
DTEND;VALUE=DATE;TZID=ASIA-JAKARTA:20200626
TRANSP:TRANSPARENT
END:VEVENT
END:VCALENDAR