BEGIN:VCALENDAR
VERSION:2.0
PRODID:-//Adham Somantrie/AyoLari.in//NONSGML v1.0//EN
CALSCALE:GREGORIAN
BEGIN:VEVENT
UID:06964dce9addb1c5cb5d6e3d9838f733
DTSTAMP:20260420T045150Z
LOCATION:Virtual Run
DESCRIPTION:ayolari.in
URL;VALUE=URI:https://ayolari.in/lomba/techno-run
SUMMARY:Techno Run
DTSTART;VALUE=DATE;TZID=ASIA-JAKARTA:20200514
DTEND;VALUE=DATE;TZID=ASIA-JAKARTA:20200515
TRANSP:TRANSPARENT
END:VEVENT
END:VCALENDAR