BEGIN:VCALENDAR
VERSION:2.0
PRODID:-//Adham Somantrie/AyoLari.in//NONSGML v1.0//EN
CALSCALE:GREGORIAN
BEGIN:VEVENT
UID:3f088ebeda03513be71d34d214291986
DTSTAMP:20260420T021747Z
LOCATION:Virtual Run
DESCRIPTION:ayolari.in
URL;VALUE=URI:https://ayolari.in/lomba/fast-n-fit
SUMMARY:Fast N Fit
DTSTART;VALUE=DATE;TZID=ASIA-JAKARTA:20200531
DTEND;VALUE=DATE;TZID=ASIA-JAKARTA:20200601
TRANSP:TRANSPARENT
END:VEVENT
END:VCALENDAR