BEGIN:VCALENDAR
VERSION:2.0
PRODID:-//Adham Somantrie/AyoLari.in//NONSGML v1.0//EN
CALSCALE:GREGORIAN
BEGIN:VEVENT
UID:c5a4e7e6882845ea7bb4d9462868219b
DTSTAMP:20260420T081033Z
LOCATION:Virtual Run
DESCRIPTION:ayolari.in
URL;VALUE=URI:https://ayolari.in/lomba/iconic-virtual-run-space-series
SUMMARY:Iconic Virtual Run - Space Series
DTSTART;VALUE=DATE;TZID=ASIA-JAKARTA:20200501
DTEND;VALUE=DATE;TZID=ASIA-JAKARTA:20200502
TRANSP:TRANSPARENT
END:VEVENT
END:VCALENDAR