BEGIN:VCALENDAR
VERSION:2.0
PRODID:-//Adham Somantrie/AyoLari.in//NONSGML v1.0//EN
CALSCALE:GREGORIAN
BEGIN:VEVENT
UID:d5c186983b52c4551ee00f72316c6eaa
DTSTAMP:20260420T023751Z
LOCATION:Virtual Run
DESCRIPTION:ayolari.in
URL;VALUE=URI:https://ayolari.in/lomba/allianz-punyapower-challenge
SUMMARY:Allianz #PunyaPower Challenge
DTSTART;VALUE=DATE;TZID=ASIA-JAKARTA:20200617
DTEND;VALUE=DATE;TZID=ASIA-JAKARTA:20200618
TRANSP:TRANSPARENT
END:VEVENT
END:VCALENDAR