BEGIN:VCALENDAR
VERSION:2.0
PRODID:-//Adham Somantrie/AyoLari.in//NONSGML v1.0//EN
CALSCALE:GREGORIAN
BEGIN:VEVENT
UID:dc513ea4fbdaa7a14786ffdebc4ef64e
DTSTAMP:20260420T081838Z
LOCATION:Virtual Run
DESCRIPTION:ayolari.in
URL;VALUE=URI:https://ayolari.in/lomba/2020-pelaribaik-virtual-series-2
SUMMARY:2020 PelariBaik Virtual Series 2
DTSTART;VALUE=DATE;TZID=ASIA-JAKARTA:20200601
DTEND;VALUE=DATE;TZID=ASIA-JAKARTA:20200602
TRANSP:TRANSPARENT
END:VEVENT
END:VCALENDAR