BEGIN:VCALENDAR
VERSION:2.0
PRODID:-//Adham Somantrie/AyoLari.in//NONSGML v1.0//EN
CALSCALE:GREGORIAN
BEGIN:VEVENT
UID:9d7311ba459f9e45ed746755a32dcd11
DTSTAMP:20260420T081058Z
LOCATION:Virtual Run
DESCRIPTION:ayolari.in
URL;VALUE=URI:https://ayolari.in/lomba/heal-the-world-virtual-run
SUMMARY:Heal The World Virtual Run
DTSTART;VALUE=DATE;TZID=ASIA-JAKARTA:20200505
DTEND;VALUE=DATE;TZID=ASIA-JAKARTA:20200506
TRANSP:TRANSPARENT
END:VEVENT
END:VCALENDAR