BEGIN:VCALENDAR
VERSION:2.0
PRODID:-//Adham Somantrie/AyoLari.in//NONSGML v1.0//EN
CALSCALE:GREGORIAN
BEGIN:VEVENT
UID:fb87582825f9d28a8d42c5e5e5e8b23d
DTSTAMP:20260420T034927Z
LOCATION:Virtual Run
DESCRIPTION:ayolari.in
URL;VALUE=URI:https://ayolari.in/lomba/run-boston-2020-world-marathon-challenge
SUMMARY:Run Boston 2020 - World Marathon Challenge
DTSTART;VALUE=DATE;TZID=ASIA-JAKARTA:20200420
DTEND;VALUE=DATE;TZID=ASIA-JAKARTA:20200421
TRANSP:TRANSPARENT
END:VEVENT
END:VCALENDAR