BEGIN:VCALENDAR
VERSION:2.0
PRODID:-//Adham Somantrie/AyoLari.in//NONSGML v1.0//EN
CALSCALE:GREGORIAN
BEGIN:VEVENT
UID:f80bf05527157a8c2a7bb63b22f49aaa
DTSTAMP:20260420T022349Z
LOCATION:Virtual Run
DESCRIPTION:ayolari.in
URL;VALUE=URI:https://ayolari.in/lomba/run-from-home
SUMMARY:Run From Home
DTSTART;VALUE=DATE;TZID=ASIA-JAKARTA:20200328
DTEND;VALUE=DATE;TZID=ASIA-JAKARTA:20200329
TRANSP:TRANSPARENT
END:VEVENT
END:VCALENDAR