BEGIN:VCALENDAR
VERSION:2.0
PRODID:-//Adham Somantrie/AyoLari.in//NONSGML v1.0//EN
CALSCALE:GREGORIAN
BEGIN:VEVENT
UID:798cebccb32617ad94123450fd137104
DTSTAMP:20260420T081838Z
LOCATION:Virtual Run
DESCRIPTION:ayolari.in
URL;VALUE=URI:https://ayolari.in/lomba/telkom-university-half-marathon-2020
SUMMARY:Telkom University Virtual Run 2020
DTSTART;VALUE=DATE;TZID=ASIA-JAKARTA:20201005
DTEND;VALUE=DATE;TZID=ASIA-JAKARTA:20201006
TRANSP:TRANSPARENT
END:VEVENT
END:VCALENDAR