BEGIN:VCALENDAR
VERSION:2.0
PRODID:-//Adham Somantrie/AyoLari.in//NONSGML v1.0//EN
CALSCALE:GREGORIAN
BEGIN:VEVENT
UID:405e28906322882c5be9b4b27f4c35fd
DTSTAMP:20260420T081741Z
LOCATION:Virtual Run
DESCRIPTION:ayolari.in
URL;VALUE=URI:https://ayolari.in/lomba/covid-19-battle-virtual-half-marathon
SUMMARY:Covid-19 Battle Virtual Half Marathon
DTSTART;VALUE=DATE;TZID=ASIA-JAKARTA:20200317
DTEND;VALUE=DATE;TZID=ASIA-JAKARTA:20200318
TRANSP:TRANSPARENT
END:VEVENT
END:VCALENDAR