BEGIN:VCALENDAR
VERSION:2.0
PRODID:-//Adham Somantrie/AyoLari.in//NONSGML v1.0//EN
CALSCALE:GREGORIAN
BEGIN:VEVENT
UID:3d863b367aa379f71c7afc0c9cdca41d
DTSTAMP:20260420T051228Z
LOCATION:Jakarta
DESCRIPTION:ayolari.in
URL;VALUE=URI:https://ayolari.in/lomba/jomblo-fest-2020
SUMMARY:Jomblo Fest 2020
DTSTART;VALUE=DATE;TZID=ASIA-JAKARTA:20200808
DTEND;VALUE=DATE;TZID=ASIA-JAKARTA:20200809
TRANSP:TRANSPARENT
END:VEVENT
END:VCALENDAR