BEGIN:VCALENDAR
VERSION:2.0
PRODID:-//Adham Somantrie/AyoLari.in//NONSGML v1.0//EN
CALSCALE:GREGORIAN
BEGIN:VEVENT
UID:c4de8ced6214345614d33fb0b16a8acd
DTSTAMP:20260420T023456Z
LOCATION:Jakarta
DESCRIPTION:ayolari.in
URL;VALUE=URI:https://ayolari.in/lomba/5k-run-spectaxcular-2020
SUMMARY:5K Run Spectaxcular 2020
DTSTART;VALUE=DATE;TZID=ASIA-JAKARTA:20200308
DTEND;VALUE=DATE;TZID=ASIA-JAKARTA:20200309
TRANSP:TRANSPARENT
END:VEVENT
END:VCALENDAR