BEGIN:VCALENDAR
VERSION:2.0
PRODID:-//Adham Somantrie/AyoLari.in//NONSGML v1.0//EN
CALSCALE:GREGORIAN
BEGIN:VEVENT
UID:0004d0b59e19461ff126e3a08a814c33
DTSTAMP:20260420T034927Z
LOCATION:Tangerang Selatan
DESCRIPTION:ayolari.in
URL;VALUE=URI:https://ayolari.in/lomba/bintaro-jaya-night-10k
SUMMARY:Bintaro Jaya Night 10K
DTSTART;VALUE=DATE;TZID=ASIA-JAKARTA:20200502
DTEND;VALUE=DATE;TZID=ASIA-JAKARTA:20200503
TRANSP:TRANSPARENT
END:VEVENT
END:VCALENDAR