BEGIN:VCALENDAR
VERSION:2.0
PRODID:-//Adham Somantrie/AyoLari.in//NONSGML v1.0//EN
CALSCALE:GREGORIAN
BEGIN:VEVENT
UID:95f6870ff3dcd442254e334a9033d349
DTSTAMP:20260420T115336Z
LOCATION:Virtual Run
DESCRIPTION:ayolari.in
URL;VALUE=URI:https://ayolari.in/lomba/gede-pangrango-virtual
SUMMARY:Gede Pangrango Virtual
DTSTART;VALUE=DATE;TZID=ASIA-JAKARTA:20200113
DTEND;VALUE=DATE;TZID=ASIA-JAKARTA:20200114
TRANSP:TRANSPARENT
END:VEVENT
END:VCALENDAR