BEGIN:VCALENDAR
VERSION:2.0
PRODID:-//Adham Somantrie/AyoLari.in//NONSGML v1.0//EN
CALSCALE:GREGORIAN
BEGIN:VEVENT
UID:f106b7f99d2cb30c3db1c3cc0fde9ccb
DTSTAMP:20260420T093321Z
LOCATION:Kab Bogor
DESCRIPTION:ayolari.in
URL;VALUE=URI:https://ayolari.in/lomba/midnite-trail-run
SUMMARY:Midnite Trail Run
DTSTART;VALUE=DATE;TZID=ASIA-JAKARTA:20200509
DTEND;VALUE=DATE;TZID=ASIA-JAKARTA:20200510
TRANSP:TRANSPARENT
END:VEVENT
END:VCALENDAR