BEGIN:VCALENDAR
VERSION:2.0
PRODID:-//Adham Somantrie/AyoLari.in//NONSGML v1.0//EN
CALSCALE:GREGORIAN
BEGIN:VEVENT
UID:d77f00766fd3be3f2189c843a6af3fb2
DTSTAMP:20260421T204255Z
LOCATION:Jakarta
DESCRIPTION:ayolari.in
URL;VALUE=URI:https://ayolari.in/lomba/first-festival-fun-run-2020
SUMMARY:First Festival Fun Run 2020
DTSTART;VALUE=DATE;TZID=ASIA-JAKARTA:20200405
DTEND;VALUE=DATE;TZID=ASIA-JAKARTA:20200406
TRANSP:TRANSPARENT
END:VEVENT
END:VCALENDAR