BEGIN:VCALENDAR
VERSION:2.0
PRODID:-//Adham Somantrie/AyoLari.in//NONSGML v1.0//EN
CALSCALE:GREGORIAN
BEGIN:VEVENT
UID:277a78fc05c8864a170e9a56ceeabc4c
DTSTAMP:20260420T081221Z
LOCATION:Virtual Run
DESCRIPTION:ayolari.in
URL;VALUE=URI:https://ayolari.in/lomba/run-army-run-suga-edition
SUMMARY:Run! ARMY Run! - Suga Edition
DTSTART;VALUE=DATE;TZID=ASIA-JAKARTA:20200329
DTEND;VALUE=DATE;TZID=ASIA-JAKARTA:20200330
TRANSP:TRANSPARENT
END:VEVENT
END:VCALENDAR