BEGIN:VCALENDAR
VERSION:2.0
PRODID:-//Adham Somantrie/AyoLari.in//NONSGML v1.0//EN
CALSCALE:GREGORIAN
BEGIN:VEVENT
UID:7ca57a9f85a19a6e4b9a248c1daca185
DTSTAMP:20260420T035013Z
LOCATION:Bandung
DESCRIPTION:ayolari.in
URL;VALUE=URI:https://ayolari.in/lomba/bandung-unicorn-5km-fun-run
SUMMARY:Bandung Unicorn 5KM Fun Run
DTSTART;VALUE=DATE;TZID=ASIA-JAKARTA:20200419
DTEND;VALUE=DATE;TZID=ASIA-JAKARTA:20200420
TRANSP:TRANSPARENT
END:VEVENT
END:VCALENDAR