BEGIN:VCALENDAR
VERSION:2.0
PRODID:-//Adham Somantrie/AyoLari.in//NONSGML v1.0//EN
CALSCALE:GREGORIAN
BEGIN:VEVENT
UID:95e6834d0a3d99e9ea8811855ae9229d
DTSTAMP:20260420T081136Z
LOCATION:Jakarta
DESCRIPTION:ayolari.in
URL;VALUE=URI:https://ayolari.in/lomba/whd-run-2020
SUMMARY:WHD RUN 2020
DTSTART;VALUE=DATE;TZID=ASIA-JAKARTA:20200405
DTEND;VALUE=DATE;TZID=ASIA-JAKARTA:20200406
TRANSP:TRANSPARENT
END:VEVENT
END:VCALENDAR