BEGIN:VCALENDAR
VERSION:2.0
PRODID:-//Adham Somantrie/AyoLari.in//NONSGML v1.0//EN
CALSCALE:GREGORIAN
BEGIN:VEVENT
UID:a597e50502f5ff68e3e25b9114205d4a
DTSTAMP:20260421T110855Z
LOCATION:Depok
DESCRIPTION:ayolari.in
URL;VALUE=URI:https://ayolari.in/lomba/have-fun-go-med-fun-run
SUMMARY:Have Fun Go Med Fun Run
DTSTART;VALUE=DATE;TZID=ASIA-JAKARTA:20150502
DTEND;VALUE=DATE;TZID=ASIA-JAKARTA:20150503
TRANSP:TRANSPARENT
END:VEVENT
END:VCALENDAR