BEGIN:VCALENDAR
VERSION:2.0
PRODID:-//Adham Somantrie/AyoLari.in//NONSGML v1.0//EN
CALSCALE:GREGORIAN
BEGIN:VEVENT
UID:f22e4747da1aa27e363d86d40ff442fe
DTSTAMP:20260421T203801Z
LOCATION:Bogor
DESCRIPTION:ayolari.in
URL;VALUE=URI:https://ayolari.in/lomba/bogor-half-marathon-2020
SUMMARY:Bogor Half Marathon 2020
DTSTART;VALUE=DATE;TZID=ASIA-JAKARTA:20200621
DTEND;VALUE=DATE;TZID=ASIA-JAKARTA:20200622
TRANSP:TRANSPARENT
END:VEVENT
END:VCALENDAR