BEGIN:VCALENDAR
VERSION:2.0
PRODID:-//Adham Somantrie/AyoLari.in//NONSGML v1.0//EN
CALSCALE:GREGORIAN
BEGIN:VEVENT
UID:ad4cc1fb9b068faecfb70914acc63395
DTSTAMP:20260420T023456Z
LOCATION:Tangerang
DESCRIPTION:ayolari.in
URL;VALUE=URI:https://ayolari.in/lomba/nasi-uduk-5km-fun-run
SUMMARY:Nasi Uduk 5KM Fun Run
DTSTART;VALUE=DATE;TZID=ASIA-JAKARTA:20200411
DTEND;VALUE=DATE;TZID=ASIA-JAKARTA:20200412
TRANSP:TRANSPARENT
END:VEVENT
END:VCALENDAR