BEGIN:VCALENDAR
VERSION:2.0
PRODID:-//Adham Somantrie/AyoLari.in//NONSGML v1.0//EN
CALSCALE:GREGORIAN
BEGIN:VEVENT
UID:136f951362dab62e64eb8e841183c2a9
DTSTAMP:20260421T203459Z
LOCATION:Tangerang
DESCRIPTION:ayolari.in
URL;VALUE=URI:https://ayolari.in/lomba/tangerang-pink-swan-run
SUMMARY:Tangerang Pink Swan Run
DTSTART;VALUE=DATE;TZID=ASIA-JAKARTA:20200329
DTEND;VALUE=DATE;TZID=ASIA-JAKARTA:20200330
TRANSP:TRANSPARENT
END:VEVENT
END:VCALENDAR