BEGIN:VCALENDAR
VERSION:2.0
PRODID:-//Adham Somantrie/AyoLari.in//NONSGML v1.0//EN
CALSCALE:GREGORIAN
BEGIN:VEVENT
UID:11108a3dbfe4636cb40b84b803b2fff6
DTSTAMP:20260420T023654Z
LOCATION:Bogor
DESCRIPTION:ayolari.in
URL;VALUE=URI:https://ayolari.in/lomba/bogor-happy-panda-5km-fun-run
SUMMARY:Bogor Happy Panda 5KM Fun Run
DTSTART;VALUE=DATE;TZID=ASIA-JAKARTA:20200328
DTEND;VALUE=DATE;TZID=ASIA-JAKARTA:20200329
TRANSP:TRANSPARENT
END:VEVENT
END:VCALENDAR