BEGIN:VCALENDAR
VERSION:2.0
PRODID:-//Adham Somantrie/AyoLari.in//NONSGML v1.0//EN
CALSCALE:GREGORIAN
BEGIN:VEVENT
UID:8d55a249e6baa5c06772297520da2051
DTSTAMP:20260420T022104Z
LOCATION:Depok
DESCRIPTION:ayolari.in
URL;VALUE=URI:https://ayolari.in/lomba/ui-ultra
SUMMARY:UI Ultra
DTSTART;VALUE=DATE;TZID=ASIA-JAKARTA:20200627
DTEND;VALUE=DATE;TZID=ASIA-JAKARTA:20200628
TRANSP:TRANSPARENT
END:VEVENT
END:VCALENDAR