BEGIN:VCALENDAR
VERSION:2.0
PRODID:-//Adham Somantrie/AyoLari.in//NONSGML v1.0//EN
CALSCALE:GREGORIAN
BEGIN:VEVENT
UID:52d2752b150f9c35ccb6869cbf074e48
DTSTAMP:20260423T225839Z
LOCATION:Jakarta
DESCRIPTION:ayolari.in
URL;VALUE=URI:https://ayolari.in/lomba/mg-earth-run-5k
SUMMARY:MG Earth Run 5K
DTSTART;VALUE=DATE;TZID=ASIA-JAKARTA:20200614
DTEND;VALUE=DATE;TZID=ASIA-JAKARTA:20200615
TRANSP:TRANSPARENT
END:VEVENT
END:VCALENDAR