BEGIN:VCALENDAR
VERSION:2.0
PRODID:-//Adham Somantrie/AyoLari.in//NONSGML v1.0//EN
CALSCALE:GREGORIAN
BEGIN:VEVENT
UID:15d185eaa7c954e77f5343d941e25fbd
DTSTAMP:20260420T115314Z
LOCATION:Surakarta
DESCRIPTION:ayolari.in
URL;VALUE=URI:https://ayolari.in/lomba/11k-solo-open-uns-2020
SUMMARY:11K Solo Open UNS 2020
DTSTART;VALUE=DATE;TZID=ASIA-JAKARTA:20200308
DTEND;VALUE=DATE;TZID=ASIA-JAKARTA:20200309
TRANSP:TRANSPARENT
END:VEVENT
END:VCALENDAR