BEGIN:VCALENDAR
VERSION:2.0
PRODID:-//Adham Somantrie/AyoLari.in//NONSGML v1.0//EN
CALSCALE:GREGORIAN
BEGIN:VEVENT
UID:29530de21430b7540ec3f65135f7323c
DTSTAMP:20260420T081100Z
LOCATION:Jakarta
DESCRIPTION:ayolari.in
URL;VALUE=URI:https://ayolari.in/lomba/run-for-independence-day-75k
SUMMARY:Run For Independence Day 7\,5K
DTSTART;VALUE=DATE;TZID=ASIA-JAKARTA:20200816
DTEND;VALUE=DATE;TZID=ASIA-JAKARTA:20200817
TRANSP:TRANSPARENT
END:VEVENT
END:VCALENDAR